View In:
ArcGIS JavaScript
ArcGIS Online Map Viewer
ArcGIS Earth
Service Description: Flathead_Hillshade
Name: Flathead_Hillshade
Description:
Single Fused Map Cache: false
Extent:
XMin: -115.11564814816798
YMin: 47.52324034216493
XMax: -112.85361053176614
YMax: 49.000648148173134
Spatial Reference: 4269
(4269)
LatestVCSWkid(0)
Initial Extent:
XMin: -115.11564814816798
YMin: 47.52324034216493
XMax: -112.85361053176614
YMax: 49.000648148173134
Spatial Reference: 4269
(4269)
LatestVCSWkid(0)
Full Extent:
XMin: -115.11564814816798
YMin: 47.52324034216493
XMax: -112.85361053176614
YMax: 49.000648148173134
Spatial Reference: 4269
(4269)
LatestVCSWkid(0)
Pixel Size X: 9.259261630789362E-5
Pixel Size Y: 9.259261757384068E-5
Band Count: 1
Pixel Type: U8
RasterFunction Infos: {"rasterFunctionInfos": [{
"name": "None",
"description": "",
"help": ""
}]}
Mensuration Capabilities: Basic
Inspection Capabilities:
Has Histograms: true
Has Colormap: false
Has Multi Dimensions : false
Rendering Rule:
Min Scale: 0
Max Scale: 0
Copyright Text:
Service Data Type: esriImageServiceDataTypeProcessed
Min Values: 8
Max Values: 238
Mean Values: 196.64313551271
Standard Deviation Values: 36.892030181257
Object ID Field:
Fields:
None
Default Mosaic Method: Center
Allowed Mosaic Methods:
SortField:
SortValue: null
Mosaic Operator: First
Default Compression Quality: 75
Default Resampling Method: Bilinear
Max Record Count: null
Max Image Height: 4100
Max Image Width: 15000
Max Download Image Count: null
Max Mosaic Image Count: null
Allow Raster Function: true
Allow Copy: true
Allow Analysis: true
Allow Compute TiePoints: false
Supports Statistics: false
Supports Advanced Queries: false
Use StandardizedQueries: true
Raster Type Infos:
Name: Raster Dataset
Description: Supports all ArcGIS Raster Datasets
Help:
Has Raster Attribute Table: false
Edit Fields Info: null
Ownership Based AccessControl For Rasters: null
Child Resources:
Info
Histograms
Statistics
Key Properties
Legend
Raster Function Infos
Supported Operations:
Export Image
Identify
Measure
Compute Histograms
Compute Statistics Histograms
Get Samples
Compute Class Statistics
Query Boundary
Compute Pixel Location
Compute Angles
Validate
Project